BEGIN:VCALENDAR
VERSION:2.0
PRODID:-//www.arcnbc.org//NONSGML kigkonsult.se iCalcreator 2.30.10//
CALSCALE:GREGORIAN
METHOD:PUBLISH
UID:a357802c-3b09-4bdf-84b9-db4cfad1ae9f
X-WR-CALDESC:
X-WR-RELCALID:53bcb39d8d4aa982a11f1c7719dbe735
X-WR-TIMEZONE:America/New_York
BEGIN:VTIMEZONE
TZID:America/New_York
BEGIN:STANDARD
TZNAME:EST
DTSTART:20171105T020000
TZOFFSETFROM:-0400
TZOFFSETTO:-0500
RDATE:20181104T020000
RDATE:20191103T020000
END:STANDARD
BEGIN:DAYLIGHT
TZNAME:EDT
DTSTART:20180311T020000
TZOFFSETFROM:-0500
TZOFFSETTO:-0400
RDATE:20190310T020000
END:DAYLIGHT
END:VTIMEZONE
BEGIN:VEVENT
UID:dd71f022-439a-4269-8918-286fd36c9797
DTSTAMP:20260423T133347Z
DESCRIPTION:
DTSTART;TZID=America/New_York:20180605T100000
DTEND;TZID=America/New_York:20180605T160000
LOCATION:Smithfield office
SUMMARY:Orientation\, Smithfield office
END:VEVENT
END:VCALENDAR
