BEGIN:VCALENDAR
VERSION:2.0
PRODID:-//www.arcnbc.org//NONSGML kigkonsult.se iCalcreator 2.30.10//
CALSCALE:GREGORIAN
METHOD:PUBLISH
UID:1937fb3e-9ceb-473d-b1d4-fc20ddc674a1
X-WR-CALDESC:
X-WR-RELCALID:8c58fd21a781ce3e26bef3bc42c663a8
X-WR-TIMEZONE:America/New_York
BEGIN:VTIMEZONE
TZID:America/New_York
BEGIN:STANDARD
TZNAME:EST
DTSTART:20171105T020000
TZOFFSETFROM:-0400
TZOFFSETTO:-0500
RDATE:20181104T020000
RDATE:20191103T020000
END:STANDARD
BEGIN:DAYLIGHT
TZNAME:EDT
DTSTART:20180311T020000
TZOFFSETFROM:-0500
TZOFFSETTO:-0400
RDATE:20190310T020000
END:DAYLIGHT
END:VTIMEZONE
BEGIN:VEVENT
UID:f23fcc92-5e17-48a9-8977-85a77cf588f1
DTSTAMP:20260423T133414Z
DESCRIPTION:
DTSTART;TZID=America/New_York:20180607T090000
DTEND;TZID=America/New_York:20180607T160000
LOCATION:Attleboro office
SUMMARY:First Aid/CPR\, Attleboro office
END:VEVENT
END:VCALENDAR
