BEGIN:VCALENDAR
VERSION:2.0
PRODID:-//www.arcnbc.org//NONSGML kigkonsult.se iCalcreator 2.30.10//
CALSCALE:GREGORIAN
METHOD:PUBLISH
UID:b17afcac-6223-4f58-8129-9c19d5262042
X-WR-CALDESC:
X-WR-RELCALID:7af27c318c8372c1278ad7c708ab0bd6
X-WR-TIMEZONE:America/New_York
BEGIN:VTIMEZONE
TZID:America/New_York
BEGIN:STANDARD
TZNAME:EST
DTSTART:20171105T020000
TZOFFSETFROM:-0400
TZOFFSETTO:-0500
RDATE:20181104T020000
RDATE:20191103T020000
END:STANDARD
BEGIN:DAYLIGHT
TZNAME:EDT
DTSTART:20180311T020000
TZOFFSETFROM:-0500
TZOFFSETTO:-0400
RDATE:20190310T020000
END:DAYLIGHT
END:VTIMEZONE
BEGIN:VEVENT
UID:49238120-f8c8-4090-9074-94dbed3ee929
DTSTAMP:20260423T133651Z
DESCRIPTION:
DTSTART;TZID=America/New_York:20180607T163000
DTEND;TZID=America/New_York:20180607T190000
LOCATION:437 Bay St\, Taunton
SUMMARY:Mike Higgins performing at TARC
END:VEVENT
END:VCALENDAR
