BEGIN:VCALENDAR
VERSION:2.0
PRODID:-//www.arcnbc.org//NONSGML kigkonsult.se iCalcreator 2.30.10//
CALSCALE:GREGORIAN
METHOD:PUBLISH
UID:fbaddc9f-c4bd-44f1-9e97-408f7f5c32ec
X-WR-CALDESC:Session I
X-WR-RELCALID:7a7d196a96b32bc815857e07fdf612e8
X-WR-TIMEZONE:America/New_York
BEGIN:VTIMEZONE
TZID:America/New_York
BEGIN:STANDARD
TZNAME:EST
DTSTART:20171105T020000
TZOFFSETFROM:-0400
TZOFFSETTO:-0500
RDATE:20181104T020000
RDATE:20191103T020000
END:STANDARD
BEGIN:DAYLIGHT
TZNAME:EDT
DTSTART:20180311T020000
TZOFFSETFROM:-0500
TZOFFSETTO:-0400
RDATE:20190310T020000
END:DAYLIGHT
END:VTIMEZONE
BEGIN:VEVENT
UID:9f291547-3026-4291-ad0f-2d5929fdf6e5
DTSTAMP:20260423T134157Z
DESCRIPTION:Session I
DTSTART;TZID=America/New_York:20180608T160000
DTEND;TZID=America/New_York:20180608T173000
LOCATION:
SUMMARY:Attleboro Arts Museum Art Class
END:VEVENT
END:VCALENDAR
