BEGIN:VCALENDAR
VERSION:2.0
PRODID:-//www.arcnbc.org//NONSGML kigkonsult.se iCalcreator 2.30.10//
CALSCALE:GREGORIAN
METHOD:PUBLISH
UID:a586a4b8-5a94-4ff3-b3b5-b8053f569c12
X-WR-CALDESC:
X-WR-RELCALID:a06f62658eea4e82ed4c8ce2edf82833
X-WR-TIMEZONE:America/New_York
BEGIN:VTIMEZONE
TZID:America/New_York
BEGIN:STANDARD
TZNAME:EST
DTSTART:20171105T020000
TZOFFSETFROM:-0400
TZOFFSETTO:-0500
RDATE:20181104T020000
RDATE:20191103T020000
END:STANDARD
BEGIN:DAYLIGHT
TZNAME:EDT
DTSTART:20180311T020000
TZOFFSETFROM:-0500
TZOFFSETTO:-0400
RDATE:20190310T020000
END:DAYLIGHT
END:VTIMEZONE
BEGIN:VEVENT
UID:88ee37f5-33c8-4ad5-9070-c74e4b05b1d0
DTSTAMP:20260423T133621Z
DESCRIPTION:
DTSTART;TZID=America/New_York:20180611T170000
DTEND;TZID=America/New_York:20180611T180000
LOCATION:Attleboro\, 141 Park St
SUMMARY:Dance Class
END:VEVENT
END:VCALENDAR
