BEGIN:VCALENDAR
VERSION:2.0
PRODID:-//www.arcnbc.org//NONSGML kigkonsult.se iCalcreator 2.30.10//
CALSCALE:GREGORIAN
METHOD:PUBLISH
UID:af7a3dd4-9722-43f2-ba35-09662984cccb
X-WR-CALDESC:Free event
X-WR-RELCALID:d09f346bb36484038fc823af6272b750
X-WR-TIMEZONE:America/New_York
BEGIN:VTIMEZONE
TZID:America/New_York
BEGIN:STANDARD
TZNAME:EST
DTSTART:20171105T020000
TZOFFSETFROM:-0400
TZOFFSETTO:-0500
RDATE:20181104T020000
RDATE:20191103T020000
END:STANDARD
BEGIN:DAYLIGHT
TZNAME:EDT
DTSTART:20180311T020000
TZOFFSETFROM:-0500
TZOFFSETTO:-0400
RDATE:20190310T020000
END:DAYLIGHT
END:VTIMEZONE
BEGIN:VEVENT
UID:7c283a9a-6cc1-41a9-8206-05e912fb2b35
DTSTAMP:20260423T133827Z
DESCRIPTION:Free event
DTSTART;TZID=America/New_York:20180612T180000
DTEND;TZID=America/New_York:20180612T200000
LOCATION:Finsburg Field\, Attleboro
SUMMARY:Softball
END:VEVENT
END:VCALENDAR
