BEGIN:VCALENDAR
VERSION:2.0
PRODID:-//www.arcnbc.org//NONSGML kigkonsult.se iCalcreator 2.30.10//
CALSCALE:GREGORIAN
METHOD:PUBLISH
UID:aba6ae1b-8160-4c21-ad9a-b140ed300729
X-WR-CALDESC:
X-WR-RELCALID:0f57f8ef59482f735454b16c3fd2e022
X-WR-TIMEZONE:America/New_York
BEGIN:VTIMEZONE
TZID:America/New_York
BEGIN:STANDARD
TZNAME:EST
DTSTART:20171105T020000
TZOFFSETFROM:-0400
TZOFFSETTO:-0500
RDATE:20181104T020000
RDATE:20191103T020000
END:STANDARD
BEGIN:DAYLIGHT
TZNAME:EDT
DTSTART:20180311T020000
TZOFFSETFROM:-0500
TZOFFSETTO:-0400
RDATE:20190310T020000
END:DAYLIGHT
END:VTIMEZONE
BEGIN:VEVENT
UID:4d5f205e-df01-4808-8815-ba554c9fd987
DTSTAMP:20260423T151916Z
DESCRIPTION:
DTSTART;TZID=America/New_York:20180614T173000
DTEND;TZID=America/New_York:20180614T200000
LOCATION:
SUMMARY:Ted & Fran's Cookout!
END:VEVENT
END:VCALENDAR
