BEGIN:VCALENDAR
VERSION:2.0
PRODID:-//www.arcnbc.org//NONSGML kigkonsult.se iCalcreator 2.30.10//
CALSCALE:GREGORIAN
METHOD:PUBLISH
UID:8805115d-6023-47f0-a68b-e7a8a468cd8d
X-WR-CALDESC:
X-WR-RELCALID:33e857019c7200bfa016c0cf3dc31907
X-WR-TIMEZONE:America/New_York
BEGIN:VTIMEZONE
TZID:America/New_York
BEGIN:STANDARD
TZNAME:EST
DTSTART:20171105T020000
TZOFFSETFROM:-0400
TZOFFSETTO:-0500
RDATE:20181104T020000
RDATE:20191103T020000
END:STANDARD
BEGIN:DAYLIGHT
TZNAME:EDT
DTSTART:20180311T020000
TZOFFSETFROM:-0500
TZOFFSETTO:-0400
RDATE:20190310T020000
END:DAYLIGHT
END:VTIMEZONE
BEGIN:VEVENT
UID:4860f3ab-df4c-4a33-973b-26026894d06f
DTSTAMP:20260423T133621Z
DESCRIPTION:
DTSTART;TZID=America/New_York:20180618T170000
DTEND;TZID=America/New_York:20180618T180000
LOCATION:Attleboro\, 141 Park St
SUMMARY:Dance Class
END:VEVENT
END:VCALENDAR
