BEGIN:VCALENDAR
VERSION:2.0
PRODID:-//www.arcnbc.org//NONSGML kigkonsult.se iCalcreator 2.30.10//
CALSCALE:GREGORIAN
METHOD:PUBLISH
UID:b544b30e-4009-448b-97bb-a371aa19b2cb
X-WR-CALDESC:
X-WR-RELCALID:bd55a2ca52b0320a8cb76ba9c60a3377
X-WR-TIMEZONE:America/New_York
BEGIN:VTIMEZONE
TZID:America/New_York
BEGIN:STANDARD
TZNAME:EST
DTSTART:20171105T020000
TZOFFSETFROM:-0400
TZOFFSETTO:-0500
RDATE:20181104T020000
RDATE:20191103T020000
END:STANDARD
BEGIN:DAYLIGHT
TZNAME:EDT
DTSTART:20180311T020000
TZOFFSETFROM:-0500
TZOFFSETTO:-0400
RDATE:20190310T020000
END:DAYLIGHT
END:VTIMEZONE
BEGIN:VEVENT
UID:1a8de811-3cdf-48f1-8071-a8224dc73d33
DTSTAMP:20260423T133415Z
DESCRIPTION:
DTSTART;TZID=America/New_York:20180618T100000
DTEND;TZID=America/New_York:20180618T160000
LOCATION:Attleboro office
SUMMARY:Orientation\, Attleboro office
END:VEVENT
END:VCALENDAR
