BEGIN:VCALENDAR
VERSION:2.0
PRODID:-//www.arcnbc.org//NONSGML kigkonsult.se iCalcreator 2.30.10//
CALSCALE:GREGORIAN
METHOD:PUBLISH
UID:b6b07658-24d3-4b71-972b-01befbe5eb58
X-WR-CALDESC:Session I
X-WR-RELCALID:38af1cfcf79094cd2dbcb59b8ec0dc5d
X-WR-TIMEZONE:America/New_York
BEGIN:VTIMEZONE
TZID:America/New_York
BEGIN:STANDARD
TZNAME:EST
DTSTART:20171105T020000
TZOFFSETFROM:-0400
TZOFFSETTO:-0500
RDATE:20181104T020000
RDATE:20191103T020000
END:STANDARD
BEGIN:DAYLIGHT
TZNAME:EDT
DTSTART:20180311T020000
TZOFFSETFROM:-0500
TZOFFSETTO:-0400
RDATE:20190310T020000
END:DAYLIGHT
END:VTIMEZONE
BEGIN:VEVENT
UID:2946ca77-6e7b-4972-8d6b-ad3c8e5002f2
DTSTAMP:20260423T134158Z
DESCRIPTION:Session I
DTSTART;TZID=America/New_York:20180622T160000
DTEND;TZID=America/New_York:20180622T173000
LOCATION:
SUMMARY:Attleboro Arts Museum Art Class
END:VEVENT
END:VCALENDAR
