BEGIN:VCALENDAR
VERSION:2.0
PRODID:-//www.arcnbc.org//NONSGML kigkonsult.se iCalcreator 2.30.10//
CALSCALE:GREGORIAN
METHOD:PUBLISH
UID:a032fb42-6d0b-493c-8524-b9ddd1ad5e0b
X-WR-CALDESC:
X-WR-RELCALID:485210e6ba3c329959463e3d50c821da
X-WR-TIMEZONE:America/New_York
BEGIN:VTIMEZONE
TZID:America/New_York
BEGIN:STANDARD
TZNAME:EST
DTSTART:20171105T020000
TZOFFSETFROM:-0400
TZOFFSETTO:-0500
RDATE:20181104T020000
RDATE:20191103T020000
END:STANDARD
BEGIN:DAYLIGHT
TZNAME:EDT
DTSTART:20180311T020000
TZOFFSETFROM:-0500
TZOFFSETTO:-0400
RDATE:20190310T020000
END:DAYLIGHT
END:VTIMEZONE
BEGIN:VEVENT
UID:8752c50b-4898-4df7-959c-6e67c3b8f167
DTSTAMP:20260423T134023Z
DESCRIPTION:
DTSTART;TZID=America/New_York:20180626T090000
DTEND;TZID=America/New_York:20180626T160000
LOCATION:New Bedford office
SUMMARY:First Aid/CPR\, New Bedford office
END:VEVENT
END:VCALENDAR
