BEGIN:VCALENDAR
VERSION:2.0
PRODID:-//www.arcnbc.org//NONSGML kigkonsult.se iCalcreator 2.30.10//
CALSCALE:GREGORIAN
METHOD:PUBLISH
UID:0406d9f2-7ff1-4a96-ad04-b4cd9ac0cce8
X-WR-CALDESC:
X-WR-RELCALID:639a3ce37cd1480f7783a428791c5ce2
X-WR-TIMEZONE:America/New_York
BEGIN:VTIMEZONE
TZID:America/New_York
BEGIN:STANDARD
TZNAME:EST
DTSTART:20171105T020000
TZOFFSETFROM:-0400
TZOFFSETTO:-0500
RDATE:20181104T020000
RDATE:20191103T020000
END:STANDARD
BEGIN:DAYLIGHT
TZNAME:EDT
DTSTART:20180311T020000
TZOFFSETFROM:-0500
TZOFFSETTO:-0400
RDATE:20190310T020000
END:DAYLIGHT
END:VTIMEZONE
BEGIN:VEVENT
UID:34dc2daa-7072-4db8-97c3-7a029b759bd6
DTSTAMP:20260423T134042Z
DESCRIPTION:
DTSTART;TZID=America/New_York:20180628T160000
DTEND;TZID=America/New_York:20180628T170000
LOCATION:TARC
SUMMARY:Movie Night
END:VEVENT
END:VCALENDAR
