BEGIN:VCALENDAR
VERSION:2.0
PRODID:-//www.arcnbc.org//NONSGML kigkonsult.se iCalcreator 2.30.10//
CALSCALE:GREGORIAN
METHOD:PUBLISH
UID:202d597e-773c-43c6-b5a9-95330d692c42
X-WR-CALDESC:Session I
X-WR-RELCALID:6b364ec064852183c50ce92af0c1d9a9
X-WR-TIMEZONE:America/New_York
BEGIN:VTIMEZONE
TZID:America/New_York
BEGIN:STANDARD
TZNAME:EST
DTSTART:20171105T020000
TZOFFSETFROM:-0400
TZOFFSETTO:-0500
RDATE:20181104T020000
RDATE:20191103T020000
END:STANDARD
BEGIN:DAYLIGHT
TZNAME:EDT
DTSTART:20180311T020000
TZOFFSETFROM:-0500
TZOFFSETTO:-0400
RDATE:20190310T020000
END:DAYLIGHT
END:VTIMEZONE
BEGIN:VEVENT
UID:0e321234-2f53-4543-b840-8157d3c96d4d
DTSTAMP:20260423T134157Z
DESCRIPTION:Session I
DTSTART;TZID=America/New_York:20180629T160000
DTEND;TZID=America/New_York:20180629T173000
LOCATION:
SUMMARY:Attleboro Arts Museum Art Class
END:VEVENT
END:VCALENDAR
