BEGIN:VCALENDAR
VERSION:2.0
PRODID:-//www.arcnbc.org//NONSGML kigkonsult.se iCalcreator 2.30.10//
CALSCALE:GREGORIAN
METHOD:PUBLISH
UID:27976a62-166a-4504-97d0-c38edf13461f
X-WR-CALDESC:Join us at the Memory Cafe\, a welcoming place for individuals
  living with memory changes and their care partners.
X-WR-RELCALID:ded04bdf5ce506b18c2e21d7b5389fba
X-WR-TIMEZONE:America/New_York
BEGIN:VTIMEZONE
TZID:America/New_York
BEGIN:STANDARD
TZNAME:EST
DTSTART:20171105T020000
TZOFFSETFROM:-0400
TZOFFSETTO:-0500
RDATE:20181104T020000
RDATE:20191103T020000
END:STANDARD
BEGIN:DAYLIGHT
TZNAME:EDT
DTSTART:20180311T020000
TZOFFSETFROM:-0500
TZOFFSETTO:-0400
RDATE:20190310T020000
END:DAYLIGHT
END:VTIMEZONE
BEGIN:VEVENT
UID:1870d582-0431-4a38-9251-8dd8f5030c3b
DTSTAMP:20260423T133043Z
DESCRIPTION:Join us at the Memory Cafe\, a welcoming place for individuals 
 living with memory changes and their care partners.
DTSTART;TZID=America/New_York:20180711T133000
DTEND;TZID=America/New_York:20180711T150000
LOCATION:Attleboro Library
SUMMARY:Memory Cafe
END:VEVENT
END:VCALENDAR
