BEGIN:VCALENDAR
VERSION:2.0
PRODID:-//www.arcnbc.org//NONSGML kigkonsult.se iCalcreator 2.30.10//
CALSCALE:GREGORIAN
METHOD:PUBLISH
UID:9efb47a5-d245-4561-b380-6dc5f7b8eb33
X-WR-CALDESC:Join us for a fun\, festive Run Walk & Roll fundraiser to bene
 fit The Arc of Bristol County programs and services. For more information\
 , go to www.arcnbc.org and upcoming events.
X-WR-RELCALID:51486e701ce624785147a07eacde7b2f
X-WR-TIMEZONE:America/New_York
BEGIN:VTIMEZONE
TZID:America/New_York
BEGIN:STANDARD
TZNAME:EST
DTSTART:20171105T020000
TZOFFSETFROM:-0400
TZOFFSETTO:-0500
RDATE:20181104T020000
RDATE:20191103T020000
END:STANDARD
BEGIN:DAYLIGHT
TZNAME:EDT
DTSTART:20180311T020000
TZOFFSETFROM:-0500
TZOFFSETTO:-0400
RDATE:20190310T020000
END:DAYLIGHT
END:VTIMEZONE
BEGIN:VEVENT
UID:db48f296-bbb4-4a24-859b-b3ad35fd265a
DTSTAMP:20260423T133347Z
DESCRIPTION:Join us for a fun\, festive Run Walk & Roll fundraiser to benef
 it The Arc of Bristol County programs and services. For more information\,
  go to www.arcnbc.org and upcoming events.
DTSTART;TZID=America/New_York:20180715T080000
DTEND;TZID=America/New_York:20180715T113000
LOCATION:700 Myles Standish Blvd\, Taunton
SUMMARY:Arc Strong: 5k Run\, Walk & Roll
END:VEVENT
END:VCALENDAR
