BEGIN:VCALENDAR
VERSION:2.0
PRODID:-//www.arcnbc.org//NONSGML kigkonsult.se iCalcreator 2.30.10//
CALSCALE:GREGORIAN
METHOD:PUBLISH
UID:4a8959ee-aa5a-487b-a633-5a27395cfe0c
X-WR-CALDESC:
X-WR-RELCALID:6f02f3cdc45223a3dfffb4e37cea9dbe
X-WR-TIMEZONE:America/New_York
BEGIN:VTIMEZONE
TZID:America/New_York
BEGIN:STANDARD
TZNAME:EST
DTSTART:20171105T020000
TZOFFSETFROM:-0400
TZOFFSETTO:-0500
RDATE:20181104T020000
RDATE:20191103T020000
END:STANDARD
BEGIN:DAYLIGHT
TZNAME:EDT
DTSTART:20180311T020000
TZOFFSETFROM:-0500
TZOFFSETTO:-0400
RDATE:20190310T020000
END:DAYLIGHT
END:VTIMEZONE
BEGIN:VEVENT
UID:23ae14c3-f463-4df9-ba60-dc74a0c6bbc5
DTSTAMP:20260423T133346Z
DESCRIPTION:
DTSTART;TZID=America/New_York:20180718T100000
DTEND;TZID=America/New_York:20180718T160000
LOCATION:Smithfield office
SUMMARY:Orientation\, Smithfield office
END:VEVENT
END:VCALENDAR
