BEGIN:VCALENDAR
VERSION:2.0
PRODID:-//www.arcnbc.org//NONSGML kigkonsult.se iCalcreator 2.30.10//
CALSCALE:GREGORIAN
METHOD:PUBLISH
UID:7c21f07a-9f34-426c-86c7-0d0853dabfd9
X-WR-CALDESC:
X-WR-RELCALID:c8a6f8612d45653e8dbcb3aae6770993
X-WR-TIMEZONE:America/New_York
BEGIN:VTIMEZONE
TZID:America/New_York
BEGIN:STANDARD
TZNAME:EST
DTSTART:20171105T020000
TZOFFSETFROM:-0400
TZOFFSETTO:-0500
RDATE:20181104T020000
RDATE:20191103T020000
END:STANDARD
BEGIN:DAYLIGHT
TZNAME:EDT
DTSTART:20180311T020000
TZOFFSETFROM:-0500
TZOFFSETTO:-0400
RDATE:20190310T020000
END:DAYLIGHT
END:VTIMEZONE
BEGIN:VEVENT
UID:fc35509d-c2be-4a8f-95b0-d892cee457db
DTSTAMP:20260423T133416Z
DESCRIPTION:
DTSTART;TZID=America/New_York:20180813T090000
DTEND;TZID=America/New_York:20180813T160000
LOCATION:Attleboro office
SUMMARY:First AId/CPR\, Attleboro office
END:VEVENT
END:VCALENDAR
