BEGIN:VCALENDAR
VERSION:2.0
PRODID:-//www.arcnbc.org//NONSGML kigkonsult.se iCalcreator 2.30.10//
CALSCALE:GREGORIAN
METHOD:PUBLISH
UID:ca97018b-efec-4e41-b1fb-cb6d9386fcbf
X-WR-CALDESC:
X-WR-RELCALID:fc5071d4621bf0850951feccb4e95879
X-WR-TIMEZONE:America/New_York
BEGIN:VTIMEZONE
TZID:America/New_York
BEGIN:STANDARD
TZNAME:EST
DTSTART:20171105T020000
TZOFFSETFROM:-0400
TZOFFSETTO:-0500
RDATE:20181104T020000
RDATE:20191103T020000
END:STANDARD
BEGIN:DAYLIGHT
TZNAME:EDT
DTSTART:20180311T020000
TZOFFSETFROM:-0500
TZOFFSETTO:-0400
RDATE:20190310T020000
END:DAYLIGHT
END:VTIMEZONE
BEGIN:VEVENT
UID:2cc74fd1-dad4-4825-b12c-867a67ccb8a0
DTSTAMP:20260423T133416Z
DESCRIPTION:
DTSTART;TZID=America/New_York:20180814T090000
DTEND;TZID=America/New_York:20180814T160000
LOCATION:Attleboro office
SUMMARY:First Aid/CPR\, Attleboro office
END:VEVENT
END:VCALENDAR
