BEGIN:VCALENDAR
VERSION:2.0
PRODID:-//www.arcnbc.org//NONSGML kigkonsult.se iCalcreator 2.30.10//
CALSCALE:GREGORIAN
METHOD:PUBLISH
UID:4d0b4776-3885-4264-ab16-67cfabd53378
X-WR-CALDESC:
X-WR-RELCALID:67590372d9bfe9efaba572c68ee9f750
X-WR-TIMEZONE:America/New_York
BEGIN:VTIMEZONE
TZID:America/New_York
BEGIN:STANDARD
TZNAME:EST
DTSTART:20171105T020000
TZOFFSETFROM:-0400
TZOFFSETTO:-0500
RDATE:20181104T020000
RDATE:20191103T020000
END:STANDARD
BEGIN:DAYLIGHT
TZNAME:EDT
DTSTART:20180311T020000
TZOFFSETFROM:-0500
TZOFFSETTO:-0400
RDATE:20190310T020000
END:DAYLIGHT
END:VTIMEZONE
BEGIN:VEVENT
UID:acdf9f25-788e-4f9f-9898-ef5369442973
DTSTAMP:20260423T133811Z
DESCRIPTION:
DTSTART;TZID=America/New_York:20180821T090000
DTEND;TZID=America/New_York:20180821T160000
LOCATION:New Bedford office
SUMMARY:First Aid/CPR\, New Bedford office
END:VEVENT
END:VCALENDAR
