BEGIN:VCALENDAR
VERSION:2.0
PRODID:-//www.arcnbc.org//NONSGML kigkonsult.se iCalcreator 2.30.10//
CALSCALE:GREGORIAN
METHOD:PUBLISH
UID:8eba8e12-7d59-4a8c-a6f6-f181ceae4bda
X-WR-CALDESC:Pick up time in Attleboro is 9:30am\, TARC pickup is at 9am
X-WR-RELCALID:436a226f477e67411d5da5873544305a
X-WR-TIMEZONE:America/New_York
BEGIN:VTIMEZONE
TZID:America/New_York
BEGIN:STANDARD
TZNAME:EST
DTSTART:20171105T020000
TZOFFSETFROM:-0400
TZOFFSETTO:-0500
RDATE:20181104T020000
RDATE:20191103T020000
END:STANDARD
BEGIN:DAYLIGHT
TZNAME:EDT
DTSTART:20180311T020000
TZOFFSETFROM:-0500
TZOFFSETTO:-0400
RDATE:20190310T020000
END:DAYLIGHT
END:VTIMEZONE
BEGIN:VEVENT
UID:839e0428-5a5a-4824-b7ba-1ef75f1505aa
DTSTAMP:20260423T133144Z
DESCRIPTION:Pick up time in Attleboro is 9:30am\, TARC pickup is at 9am
DTSTART;TZID=America/New_York:20180824T093000
DTEND;TZID=America/New_York:20180824T160000
LOCATION:
SUMMARY:Marshfield Fair
END:VEVENT
END:VCALENDAR
