BEGIN:VCALENDAR
VERSION:2.0
PRODID:-//www.arcnbc.org//NONSGML kigkonsult.se iCalcreator 2.30.10//
CALSCALE:GREGORIAN
METHOD:PUBLISH
UID:e06c4b5a-af0e-4fa0-a22d-2a7642eb4c75
X-WR-CALDESC:Pick-up in TARC 10:00am\nPick-up in Attleboro 10:30am\n
X-WR-RELCALID:15e4adadab4ab0fa1a1d7dce4720a55a
X-WR-TIMEZONE:America/New_York
BEGIN:VTIMEZONE
TZID:America/New_York
BEGIN:STANDARD
TZNAME:EST
DTSTART:20171105T020000
TZOFFSETFROM:-0400
TZOFFSETTO:-0500
RDATE:20181104T020000
RDATE:20191103T020000
END:STANDARD
BEGIN:DAYLIGHT
TZNAME:EDT
DTSTART:20180311T020000
TZOFFSETFROM:-0500
TZOFFSETTO:-0400
RDATE:20190310T020000
END:DAYLIGHT
END:VTIMEZONE
BEGIN:VEVENT
UID:8b48216f-64f8-4da6-9ba5-b03031119dbf
DTSTAMP:20260423T133652Z
DESCRIPTION:Pick-up in TARC 10:00am\nPick-up in Attleboro 10:30am\n
DTSTART;TZID=America/New_York:20180827T100000
DTEND;TZID=America/New_York:20180827T160000
LOCATION:Wareham\, Ma
SUMMARY:Water Wizz Water Park
END:VEVENT
END:VCALENDAR
