BEGIN:VCALENDAR
VERSION:2.0
PRODID:-//www.arcnbc.org//NONSGML kigkonsult.se iCalcreator 2.30.10//
CALSCALE:GREGORIAN
METHOD:PUBLISH
UID:6e88afb8-7fee-423e-a700-026014527663
X-WR-CALDESC:
X-WR-RELCALID:86cd0057c48dc9ea12ae3e61d3bcfc9c
X-WR-TIMEZONE:America/New_York
BEGIN:VTIMEZONE
TZID:America/New_York
BEGIN:STANDARD
TZNAME:EST
DTSTART:20171105T020000
TZOFFSETFROM:-0400
TZOFFSETTO:-0500
RDATE:20181104T020000
RDATE:20191103T020000
END:STANDARD
BEGIN:DAYLIGHT
TZNAME:EDT
DTSTART:20180311T020000
TZOFFSETFROM:-0500
TZOFFSETTO:-0400
RDATE:20190310T020000
END:DAYLIGHT
END:VTIMEZONE
BEGIN:VEVENT
UID:03a8de4c-bb35-4665-9a0a-bd86900c2e61
DTSTAMP:20260423T133230Z
DESCRIPTION:
DTSTART;TZID=America/New_York:20180831T090000
DTEND;TZID=America/New_York:20180831T160000
LOCATION:Attleboro office
SUMMARY:First Aid/CPR\, Attleboro office
END:VEVENT
END:VCALENDAR
