BEGIN:VCALENDAR
VERSION:2.0
PRODID:-//www.arcnbc.org//NONSGML kigkonsult.se iCalcreator 2.30.10//
CALSCALE:GREGORIAN
METHOD:PUBLISH
UID:96bc59e1-9b79-4e6a-a42e-2b7c1b44d5c0
X-WR-CALDESC:$5.00 at the door.  Drop off and pick-up at East Providence La
 nes.\n
X-WR-RELCALID:8c416852f37247b27bbb9e73c5a57b8a
X-WR-TIMEZONE:America/New_York
BEGIN:VTIMEZONE
TZID:America/New_York
BEGIN:STANDARD
TZNAME:EST
DTSTART:20171105T020000
TZOFFSETFROM:-0400
TZOFFSETTO:-0500
RDATE:20181104T020000
RDATE:20191103T020000
END:STANDARD
BEGIN:DAYLIGHT
TZNAME:EDT
DTSTART:20180311T020000
TZOFFSETFROM:-0500
TZOFFSETTO:-0400
RDATE:20190310T020000
END:DAYLIGHT
END:VTIMEZONE
BEGIN:VEVENT
UID:26b2cbf5-34f2-4afb-b555-f95395430e7a
DTSTAMP:20260423T133225Z
DESCRIPTION:$5.00 at the door.  Drop off and pick-up at East Providence Lan
 es.\n
DTSTART;TZID=America/New_York:20180904T180000
DTEND;TZID=America/New_York:20180904T200000
LOCATION:East Providence Lanes
SUMMARY:Bowling
END:VEVENT
END:VCALENDAR
