BEGIN:VCALENDAR
VERSION:2.0
PRODID:-//www.arcnbc.org//NONSGML kigkonsult.se iCalcreator 2.30.10//
CALSCALE:GREGORIAN
METHOD:PUBLISH
UID:1982ecd4-6adf-477e-9b11-a187841e5a91
X-WR-CALDESC:Pickup at 141 Park Street\, Attleboro at 4:15pm
X-WR-RELCALID:ffb86977efb5b98b378dd910c7b6b8b6
X-WR-TIMEZONE:America/New_York
BEGIN:VTIMEZONE
TZID:America/New_York
BEGIN:STANDARD
TZNAME:EST
DTSTART:20171105T020000
TZOFFSETFROM:-0400
TZOFFSETTO:-0500
RDATE:20181104T020000
RDATE:20191103T020000
END:STANDARD
BEGIN:DAYLIGHT
TZNAME:EDT
DTSTART:20180311T020000
TZOFFSETFROM:-0500
TZOFFSETTO:-0400
RDATE:20190310T020000
END:DAYLIGHT
END:VTIMEZONE
BEGIN:VEVENT
UID:ea9479c0-f7fe-48ff-90ed-d25bb511606c
DTSTAMP:20260423T133642Z
DESCRIPTION:Pickup at 141 Park Street\, Attleboro at 4:15pm
DTSTART;TZID=America/New_York:20180905T161500
DTEND;TZID=America/New_York:20180905T190000
LOCATION:Kenpo Karate\, E. Taunton
SUMMARY:Karate
END:VEVENT
END:VCALENDAR
