BEGIN:VCALENDAR
VERSION:2.0
PRODID:-//www.arcnbc.org//NONSGML kigkonsult.se iCalcreator 2.30.10//
CALSCALE:GREGORIAN
METHOD:PUBLISH
UID:012e604b-3ae5-4ab2-bcaf-c3df7d4c65f8
X-WR-CALDESC:$5.00 at the door.  Drop off and pick-up at East Providence La
 nes.\n
X-WR-RELCALID:2a3c117198dcef6266fd14ffc8f1ebf5
X-WR-TIMEZONE:America/New_York
BEGIN:VTIMEZONE
TZID:America/New_York
BEGIN:STANDARD
TZNAME:EST
DTSTART:20171105T020000
TZOFFSETFROM:-0400
TZOFFSETTO:-0500
RDATE:20181104T020000
RDATE:20191103T020000
END:STANDARD
BEGIN:DAYLIGHT
TZNAME:EDT
DTSTART:20180311T020000
TZOFFSETFROM:-0500
TZOFFSETTO:-0400
RDATE:20190310T020000
RDATE:20200308T020000
END:DAYLIGHT
END:VTIMEZONE
BEGIN:VEVENT
UID:5273d0c7-d79f-42a6-97c0-41f8c56edf77
DTSTAMP:20260423T133641Z
DESCRIPTION:$5.00 at the door.  Drop off and pick-up at East Providence Lan
 es.\n
DTSTART;TZID=America/New_York:20180911T180000
DTEND;TZID=America/New_York:20180911T200000
LOCATION:East Providence Lanes
SUMMARY:Bowling
END:VEVENT
END:VCALENDAR
