BEGIN:VCALENDAR
VERSION:2.0
PRODID:-//www.arcnbc.org//NONSGML kigkonsult.se iCalcreator 2.30.10//
CALSCALE:GREGORIAN
METHOD:PUBLISH
UID:f0f6e25d-0144-46aa-9a2a-d2640a7a90cb
X-WR-CALDESC:
X-WR-RELCALID:da4d9d9f6ad1031649ce14204cd1c8ee
X-WR-TIMEZONE:America/New_York
BEGIN:VTIMEZONE
TZID:America/New_York
BEGIN:STANDARD
TZNAME:EST
DTSTART:20171105T020000
TZOFFSETFROM:-0400
TZOFFSETTO:-0500
RDATE:20181104T020000
RDATE:20191103T020000
END:STANDARD
BEGIN:DAYLIGHT
TZNAME:EDT
DTSTART:20180311T020000
TZOFFSETFROM:-0500
TZOFFSETTO:-0400
RDATE:20190310T020000
RDATE:20200308T020000
END:DAYLIGHT
END:VTIMEZONE
BEGIN:VEVENT
UID:53fc60a5-1893-4c4f-a660-2e9d541d82d0
DTSTAMP:20260423T133226Z
DESCRIPTION:
DTSTART;TZID=America/New_York:20180911T090000
DTEND;TZID=America/New_York:20180911T160000
LOCATION:Attleboro office
SUMMARY:First Aid/CPR Attleboro
END:VEVENT
END:VCALENDAR
