BEGIN:VCALENDAR
VERSION:2.0
PRODID:-//www.arcnbc.org//NONSGML kigkonsult.se iCalcreator 2.30.10//
CALSCALE:GREGORIAN
METHOD:PUBLISH
UID:8406c3bc-99c6-41f0-bdbb-771569e3ff62
X-WR-CALDESC:Pickup at 141 Park Street\, Attleboro at 4:15pm
X-WR-RELCALID:51224eea813e6680f3d9447e77c2898f
X-WR-TIMEZONE:America/New_York
BEGIN:VTIMEZONE
TZID:America/New_York
BEGIN:STANDARD
TZNAME:EST
DTSTART:20171105T020000
TZOFFSETFROM:-0400
TZOFFSETTO:-0500
RDATE:20181104T020000
RDATE:20191103T020000
END:STANDARD
BEGIN:DAYLIGHT
TZNAME:EDT
DTSTART:20180311T020000
TZOFFSETFROM:-0500
TZOFFSETTO:-0400
RDATE:20190310T020000
RDATE:20200308T020000
END:DAYLIGHT
END:VTIMEZONE
BEGIN:VEVENT
UID:610aa46a-272f-49a8-b5d2-1f0008082b6b
DTSTAMP:20260423T133640Z
DESCRIPTION:Pickup at 141 Park Street\, Attleboro at 4:15pm
DTSTART;TZID=America/New_York:20180912T161500
DTEND;TZID=America/New_York:20180912T190000
LOCATION:Kenpo Karate\, E. Taunton
SUMMARY:Karate
END:VEVENT
END:VCALENDAR
