BEGIN:VCALENDAR
VERSION:2.0
PRODID:-//www.arcnbc.org//NONSGML kigkonsult.se iCalcreator 2.30.10//
CALSCALE:GREGORIAN
METHOD:PUBLISH
UID:ec01271e-b4a9-4ccd-a144-ba81c998d642
X-WR-CALDESC:Join us for the 59th Anniversary Celebration at the Holiday In
 n Taunton. Dinner and DJ\, Annual Arc Awards\, and Celebrating Our Workfor
 ce theme. $25 per ticket.
X-WR-RELCALID:8fdb37c8bdd3f852eff8550ea740fc44
X-WR-TIMEZONE:America/New_York
BEGIN:VTIMEZONE
TZID:America/New_York
BEGIN:STANDARD
TZNAME:EST
DTSTART:20171105T020000
TZOFFSETFROM:-0400
TZOFFSETTO:-0500
RDATE:20181104T020000
RDATE:20191103T020000
END:STANDARD
BEGIN:DAYLIGHT
TZNAME:EDT
DTSTART:20180311T020000
TZOFFSETFROM:-0500
TZOFFSETTO:-0400
RDATE:20190310T020000
RDATE:20200308T020000
END:DAYLIGHT
END:VTIMEZONE
BEGIN:VEVENT
UID:c7023c45-1881-4b89-892c-853f8409cc7c
DTSTAMP:20260423T133144Z
DESCRIPTION:Join us for the 59th Anniversary Celebration at the Holiday Inn
  Taunton. Dinner and DJ\, Annual Arc Awards\, and Celebrating Our Workforc
 e theme. $25 per ticket.
DTSTART;TZID=America/New_York:20180912T180000
DTEND;TZID=America/New_York:20180912T210000
LOCATION:Holiday Inn Taunton
SUMMARY:Annual Celebration Dinner
END:VEVENT
END:VCALENDAR
