BEGIN:VCALENDAR
VERSION:2.0
PRODID:-//www.arcnbc.org//NONSGML kigkonsult.se iCalcreator 2.30.10//
CALSCALE:GREGORIAN
METHOD:PUBLISH
UID:1a48b7f7-c028-488d-9a69-9706301828bd
X-WR-CALDESC:
X-WR-RELCALID:4d588c00bccf8db82eb25962c08b35e6
X-WR-TIMEZONE:America/New_York
BEGIN:VTIMEZONE
TZID:America/New_York
BEGIN:STANDARD
TZNAME:EST
DTSTART:20171105T020000
TZOFFSETFROM:-0400
TZOFFSETTO:-0500
RDATE:20181104T020000
RDATE:20191103T020000
END:STANDARD
BEGIN:DAYLIGHT
TZNAME:EDT
DTSTART:20180311T020000
TZOFFSETFROM:-0500
TZOFFSETTO:-0400
RDATE:20190310T020000
RDATE:20200308T020000
END:DAYLIGHT
END:VTIMEZONE
BEGIN:VEVENT
UID:4a3e5bef-904b-45d0-983e-4590093afd56
DTSTAMP:20260423T133321Z
DESCRIPTION:
DTSTART;TZID=America/New_York:20180913T100000
DTEND;TZID=America/New_York:20180913T160000
LOCATION:Smithfield office
SUMMARY:Orientation\, Smithfield office
END:VEVENT
END:VCALENDAR
