BEGIN:VCALENDAR
VERSION:2.0
PRODID:-//www.arcnbc.org//NONSGML kigkonsult.se iCalcreator 2.30.10//
CALSCALE:GREGORIAN
METHOD:PUBLISH
UID:51ca14d2-e175-4abb-855e-a83c5b3e567a
X-WR-CALDESC:The Eastern States Exposition. The Big E\, also known as The E
 astern States Exposition\, is billed as 'New England's Great State fair'. 
 It is the largest agricultural event on the eastern seaboard and the seven
 th-largest fair in the nation. (Wikipedia)\n\nhttps://www.thebige.com/p/ge
 neralinfo/fair-faq\nFor frequently Asked Questions
X-WR-RELCALID:25dc8689307d6e6be8d52ee72ddef596
X-WR-TIMEZONE:America/New_York
BEGIN:VTIMEZONE
TZID:America/New_York
BEGIN:STANDARD
TZNAME:EST
DTSTART:20171105T020000
TZOFFSETFROM:-0400
TZOFFSETTO:-0500
RDATE:20181104T020000
RDATE:20191103T020000
END:STANDARD
BEGIN:DAYLIGHT
TZNAME:EDT
DTSTART:20180311T020000
TZOFFSETFROM:-0500
TZOFFSETTO:-0400
RDATE:20190310T020000
RDATE:20200308T020000
END:DAYLIGHT
END:VTIMEZONE
BEGIN:VEVENT
UID:486e2231-e3a3-4226-bf3d-24ccfb429ffd
DTSTAMP:20260423T133146Z
DESCRIPTION:The Eastern States Exposition. The Big E\, also known as The Ea
 stern States Exposition\, is billed as 'New England's Great State fair'. I
 t is the largest agricultural event on the eastern seaboard and the sevent
 h-largest fair in the nation. (Wikipedia)\n\nhttps://www.thebige.com/p/gen
 eralinfo/fair-faq\nFor frequently Asked Questions
DTSTART;TZID=America/New_York:20180914T100000
DTEND;TZID=America/New_York:20180914T170000
LOCATION:1305 Memorial Ave. West Springfield\, MA 01089
SUMMARY:The Big E
END:VEVENT
END:VCALENDAR
