BEGIN:VCALENDAR
VERSION:2.0
PRODID:-//www.arcnbc.org//NONSGML kigkonsult.se iCalcreator 2.30.10//
CALSCALE:GREGORIAN
METHOD:PUBLISH
UID:9dc29b23-c180-4e38-9296-985072f9146f
X-WR-CALDESC:We will be taking a day trip to The Big Apple.  We will visit 
 Times Square\, Madame Tussaud's wax Museum. and The Hard Rock Cafe to eat.
   Maybe even some shopping too.  I have added the link below for Madame Tu
 ssaud's.
X-WR-RELCALID:10d8ae8e748397ce0ec8a1c0ee948e00
X-WR-TIMEZONE:America/New_York
BEGIN:VTIMEZONE
TZID:America/New_York
BEGIN:STANDARD
TZNAME:EST
DTSTART:20171105T020000
TZOFFSETFROM:-0400
TZOFFSETTO:-0500
RDATE:20181104T020000
RDATE:20191103T020000
END:STANDARD
BEGIN:DAYLIGHT
TZNAME:EDT
DTSTART:20180311T020000
TZOFFSETFROM:-0500
TZOFFSETTO:-0400
RDATE:20190310T020000
RDATE:20200308T020000
END:DAYLIGHT
END:VTIMEZONE
BEGIN:VEVENT
UID:1c5a6c65-9cf8-4049-9f70-baabf3a81252
DTSTAMP:20260423T133230Z
DESCRIPTION:We will be taking a day trip to The Big Apple.  We will visit T
 imes Square\, Madame Tussaud's wax Museum. and The Hard Rock Cafe to eat. 
  Maybe even some shopping too.  I have added the link below for Madame Tus
 saud's.
DTSTART;TZID=America/New_York:20180917T070000
DTEND;TZID=America/New_York:20180917T200000
LOCATION:New York City
SUMMARY:NYC Day Trip
END:VEVENT
END:VCALENDAR
