BEGIN:VCALENDAR
VERSION:2.0
PRODID:-//www.arcnbc.org//NONSGML kigkonsult.se iCalcreator 2.30.10//
CALSCALE:GREGORIAN
METHOD:PUBLISH
UID:df2704c6-2633-41c3-a45a-977b855d0249
X-WR-CALDESC:$5.00 at the door.  Drop off and pick-up at East Providence La
 nes.\n
X-WR-RELCALID:95ffc644237741ca36ed8fe1486f9d90
X-WR-TIMEZONE:America/New_York
BEGIN:VTIMEZONE
TZID:America/New_York
BEGIN:STANDARD
TZNAME:EST
DTSTART:20171105T020000
TZOFFSETFROM:-0400
TZOFFSETTO:-0500
RDATE:20181104T020000
RDATE:20191103T020000
END:STANDARD
BEGIN:DAYLIGHT
TZNAME:EDT
DTSTART:20180311T020000
TZOFFSETFROM:-0500
TZOFFSETTO:-0400
RDATE:20190310T020000
RDATE:20200308T020000
END:DAYLIGHT
END:VTIMEZONE
BEGIN:VEVENT
UID:ec031109-9d3c-4fd7-b89c-e563e70abb0d
DTSTAMP:20260423T133757Z
DESCRIPTION:$5.00 at the door.  Drop off and pick-up at East Providence Lan
 es.\n
DTSTART;TZID=America/New_York:20180918T180000
DTEND;TZID=America/New_York:20180918T200000
LOCATION:East Providence Lanes
SUMMARY:Bowling
END:VEVENT
END:VCALENDAR
