BEGIN:VCALENDAR
VERSION:2.0
PRODID:-//www.arcnbc.org//NONSGML kigkonsult.se iCalcreator 2.30.10//
CALSCALE:GREGORIAN
METHOD:PUBLISH
UID:b98989b2-acd7-4adc-b911-6245b700c502
X-WR-CALDESC:Pickup at 141 Park Street\, Attleboro at 4:15pm
X-WR-RELCALID:e920993d847e1f1a2e44a31d2b37079a
X-WR-TIMEZONE:America/New_York
BEGIN:VTIMEZONE
TZID:America/New_York
BEGIN:STANDARD
TZNAME:EST
DTSTART:20171105T020000
TZOFFSETFROM:-0400
TZOFFSETTO:-0500
RDATE:20181104T020000
RDATE:20191103T020000
END:STANDARD
BEGIN:DAYLIGHT
TZNAME:EDT
DTSTART:20180311T020000
TZOFFSETFROM:-0500
TZOFFSETTO:-0400
RDATE:20190310T020000
RDATE:20200308T020000
END:DAYLIGHT
END:VTIMEZONE
BEGIN:VEVENT
UID:891e97d0-959b-4fa2-a223-992f810aba73
DTSTAMP:20260423T133640Z
DESCRIPTION:Pickup at 141 Park Street\, Attleboro at 4:15pm
DTSTART;TZID=America/New_York:20180919T161500
DTEND;TZID=America/New_York:20180919T190000
LOCATION:Kenpo Karate\, E. Taunton
SUMMARY:Karate
END:VEVENT
END:VCALENDAR
