BEGIN:VCALENDAR
VERSION:2.0
PRODID:-//www.arcnbc.org//NONSGML kigkonsult.se iCalcreator 2.30.10//
CALSCALE:GREGORIAN
METHOD:PUBLISH
UID:0f2d3cfa-228f-41d7-a7f5-f1903a65d5a4
X-WR-CALDESC:
X-WR-RELCALID:5ee53f4de3ad605b5b914556ee5838a8
X-WR-TIMEZONE:America/New_York
BEGIN:VTIMEZONE
TZID:America/New_York
BEGIN:STANDARD
TZNAME:EST
DTSTART:20171105T020000
TZOFFSETFROM:-0400
TZOFFSETTO:-0500
RDATE:20181104T020000
RDATE:20191103T020000
END:STANDARD
BEGIN:DAYLIGHT
TZNAME:EDT
DTSTART:20180311T020000
TZOFFSETFROM:-0500
TZOFFSETTO:-0400
RDATE:20190310T020000
RDATE:20200308T020000
END:DAYLIGHT
END:VTIMEZONE
BEGIN:VEVENT
UID:3a8dd90c-6c23-4d0f-af72-77c17ff79a1d
DTSTAMP:20260423T133224Z
DESCRIPTION:
DTSTART;TZID=America/New_York:20180922T090000
DTEND;TZID=America/New_York:20180922T160000
LOCATION:Attleboro office
SUMMARY:NCI Attleboro office
END:VEVENT
END:VCALENDAR
