BEGIN:VCALENDAR
VERSION:2.0
PRODID:-//www.arcnbc.org//NONSGML kigkonsult.se iCalcreator 2.30.10//
CALSCALE:GREGORIAN
METHOD:PUBLISH
UID:2bc063eb-44fa-4284-9482-247b09cac44e
X-WR-CALDESC:We will be visiting the aquarium and having lunch in nearby Fa
 neuil Hall.  I have added links to both Faneuil Hall Marketplace and New E
 ngland Aquarium below.
X-WR-RELCALID:ad9a64f27ef5afb08b7ed53be3f9fc2a
X-WR-TIMEZONE:America/New_York
BEGIN:VTIMEZONE
TZID:America/New_York
BEGIN:STANDARD
TZNAME:EST
DTSTART:20171105T020000
TZOFFSETFROM:-0400
TZOFFSETTO:-0500
RDATE:20181104T020000
RDATE:20191103T020000
END:STANDARD
BEGIN:DAYLIGHT
TZNAME:EDT
DTSTART:20180311T020000
TZOFFSETFROM:-0500
TZOFFSETTO:-0400
RDATE:20190310T020000
RDATE:20200308T020000
END:DAYLIGHT
END:VTIMEZONE
BEGIN:VEVENT
UID:1b858211-8233-42de-a68c-c0937478742c
DTSTAMP:20260423T152011Z
DESCRIPTION:We will be visiting the aquarium and having lunch in nearby Fan
 euil Hall.  I have added links to both Faneuil Hall Marketplace and New En
 gland Aquarium below.
DTSTART;TZID=America/New_York:20180925T100000
DTEND;TZID=America/New_York:20180925T170000
LOCATION:Boston\, MA
SUMMARY:New England Aquarium & Lunch
END:VEVENT
END:VCALENDAR
