BEGIN:VCALENDAR
VERSION:2.0
PRODID:-//www.arcnbc.org//NONSGML kigkonsult.se iCalcreator 2.30.10//
CALSCALE:GREGORIAN
METHOD:PUBLISH
UID:4916514c-697a-40c8-98aa-1e5f8f067379
X-WR-CALDESC:
X-WR-RELCALID:4ef9e6dfe8abf84145197ae1c6753b09
X-WR-TIMEZONE:America/New_York
BEGIN:VTIMEZONE
TZID:America/New_York
BEGIN:STANDARD
TZNAME:EST
DTSTART:20171105T020000
TZOFFSETFROM:-0400
TZOFFSETTO:-0500
RDATE:20181104T020000
RDATE:20191103T020000
END:STANDARD
BEGIN:DAYLIGHT
TZNAME:EDT
DTSTART:20180311T020000
TZOFFSETFROM:-0500
TZOFFSETTO:-0400
RDATE:20190310T020000
RDATE:20200308T020000
END:DAYLIGHT
END:VTIMEZONE
BEGIN:VEVENT
UID:9fcd3ec9-1add-4615-bf9e-f5f9d2d169c7
DTSTAMP:20260423T133348Z
DESCRIPTION:
DTSTART;TZID=America/New_York:20180925T100000
DTEND;TZID=America/New_York:20180925T160000
LOCATION:Attleboro office
SUMMARY:Orientation\, Attleboro office
END:VEVENT
END:VCALENDAR
