BEGIN:VCALENDAR
VERSION:2.0
PRODID:-//www.arcnbc.org//NONSGML kigkonsult.se iCalcreator 2.30.10//
CALSCALE:GREGORIAN
METHOD:PUBLISH
UID:b5e90918-7382-4a53-b352-60c3e983420f
X-WR-CALDESC:
X-WR-RELCALID:eb90159a74e4dfe66965679adf466596
X-WR-TIMEZONE:America/New_York
BEGIN:VTIMEZONE
TZID:America/New_York
BEGIN:STANDARD
TZNAME:EST
DTSTART:20171105T020000
TZOFFSETFROM:-0400
TZOFFSETTO:-0500
RDATE:20181104T020000
RDATE:20191103T020000
END:STANDARD
BEGIN:DAYLIGHT
TZNAME:EDT
DTSTART:20180311T020000
TZOFFSETFROM:-0500
TZOFFSETTO:-0400
RDATE:20190310T020000
RDATE:20200308T020000
END:DAYLIGHT
END:VTIMEZONE
BEGIN:VEVENT
UID:a99fc274-75d5-4057-adec-cd4390abffd2
DTSTAMP:20260423T133230Z
DESCRIPTION:
DTSTART;TZID=America/New_York:20180926T090000
DTEND;TZID=America/New_York:20180926T160000
LOCATION:Attleboro office
SUMMARY:NCI\, Attleboro office
END:VEVENT
END:VCALENDAR
