BEGIN:VCALENDAR
VERSION:2.0
PRODID:-//www.arcnbc.org//NONSGML kigkonsult.se iCalcreator 2.30.10//
CALSCALE:GREGORIAN
METHOD:PUBLISH
UID:9e97d3c3-e2ae-44e4-939f-190acf30d838
X-WR-CALDESC:
X-WR-RELCALID:dd46e9799609f2e744327d76d8f799fe
X-WR-TIMEZONE:America/New_York
BEGIN:VTIMEZONE
TZID:America/New_York
BEGIN:STANDARD
TZNAME:EST
DTSTART:20171105T020000
TZOFFSETFROM:-0400
TZOFFSETTO:-0500
RDATE:20181104T020000
RDATE:20191103T020000
END:STANDARD
BEGIN:DAYLIGHT
TZNAME:EDT
DTSTART:20180311T020000
TZOFFSETFROM:-0500
TZOFFSETTO:-0400
RDATE:20190310T020000
RDATE:20200308T020000
END:DAYLIGHT
END:VTIMEZONE
BEGIN:VEVENT
UID:7b332254-33cb-4fe5-b5f3-46ee710e8c36
DTSTAMP:20260423T133321Z
DESCRIPTION:
DTSTART;TZID=America/New_York:20180929T090000
DTEND;TZID=America/New_York:20180929T160000
LOCATION:Attleboro office
SUMMARY:First Aid/CPR Attleboro office
END:VEVENT
END:VCALENDAR
