BEGIN:VCALENDAR
VERSION:2.0
PRODID:-//www.arcnbc.org//NONSGML kigkonsult.se iCalcreator 2.30.10//
CALSCALE:GREGORIAN
METHOD:PUBLISH
UID:b582efa3-10ef-4a81-9260-f5f91e197fa5
X-WR-CALDESC:$5.00 at the door.  Drop off and pick-up at East Providence La
 nes.\n
X-WR-RELCALID:c6e01df370e9d35a7f76880c285c2d61
X-WR-TIMEZONE:America/New_York
BEGIN:VTIMEZONE
TZID:America/New_York
BEGIN:STANDARD
TZNAME:EST
DTSTART:20171105T020000
TZOFFSETFROM:-0400
TZOFFSETTO:-0500
RDATE:20181104T020000
RDATE:20191103T020000
END:STANDARD
BEGIN:DAYLIGHT
TZNAME:EDT
DTSTART:20180311T020000
TZOFFSETFROM:-0500
TZOFFSETTO:-0400
RDATE:20190310T020000
RDATE:20200308T020000
END:DAYLIGHT
END:VTIMEZONE
BEGIN:VEVENT
UID:da1f2aa7-90c1-4d44-b02d-e32554849248
DTSTAMP:20260423T133640Z
DESCRIPTION:$5.00 at the door.  Drop off and pick-up at East Providence Lan
 es.\n
DTSTART;TZID=America/New_York:20181002T180000
DTEND;TZID=America/New_York:20181002T200000
LOCATION:East Providence Lanes
SUMMARY:Bowling
END:VEVENT
END:VCALENDAR
