BEGIN:VCALENDAR
VERSION:2.0
PRODID:-//www.arcnbc.org//NONSGML kigkonsult.se iCalcreator 2.30.10//
CALSCALE:GREGORIAN
METHOD:PUBLISH
UID:42bdfadd-4528-4105-b77b-3cb2643f27eb
X-WR-CALDESC:Pickup at 141 Park Street\, Attleboro at 4:15pm
X-WR-RELCALID:1a88fbea84546d8b0753db258065d4ad
X-WR-TIMEZONE:America/New_York
BEGIN:VTIMEZONE
TZID:America/New_York
BEGIN:STANDARD
TZNAME:EST
DTSTART:20171105T020000
TZOFFSETFROM:-0400
TZOFFSETTO:-0500
RDATE:20181104T020000
RDATE:20191103T020000
END:STANDARD
BEGIN:DAYLIGHT
TZNAME:EDT
DTSTART:20180311T020000
TZOFFSETFROM:-0500
TZOFFSETTO:-0400
RDATE:20190310T020000
RDATE:20200308T020000
END:DAYLIGHT
END:VTIMEZONE
BEGIN:VEVENT
UID:3771c031-c025-41ab-b8c2-e6730394c191
DTSTAMP:20260423T133758Z
DESCRIPTION:Pickup at 141 Park Street\, Attleboro at 4:15pm
DTSTART;TZID=America/New_York:20181003T161500
DTEND;TZID=America/New_York:20181003T190000
LOCATION:Kenpo Karate\, E. Taunton
SUMMARY:Karate
END:VEVENT
END:VCALENDAR
