BEGIN:VCALENDAR
VERSION:2.0
PRODID:-//www.arcnbc.org//NONSGML kigkonsult.se iCalcreator 2.30.10//
CALSCALE:GREGORIAN
METHOD:PUBLISH
UID:774661f6-8bf4-4c81-827e-9137e116a0ff
X-WR-CALDESC:This will be our monthly Self advocacy meeting.  We will meet\
 , discuss\, and chat and then have dinner together.
X-WR-RELCALID:b7d5923b48952fa542b9ba42c3413a1b
X-WR-TIMEZONE:America/New_York
BEGIN:VTIMEZONE
TZID:America/New_York
BEGIN:STANDARD
TZNAME:EST
DTSTART:20171105T020000
TZOFFSETFROM:-0400
TZOFFSETTO:-0500
RDATE:20181104T020000
RDATE:20191103T020000
END:STANDARD
BEGIN:DAYLIGHT
TZNAME:EDT
DTSTART:20180311T020000
TZOFFSETFROM:-0500
TZOFFSETTO:-0400
RDATE:20190310T020000
RDATE:20200308T020000
END:DAYLIGHT
END:VTIMEZONE
BEGIN:VEVENT
UID:6a00058a-6b1a-4a50-8da3-a3279fe963d2
DTSTAMP:20260423T133502Z
DESCRIPTION:This will be our monthly Self advocacy meeting.  We will meet\,
  discuss\, and chat and then have dinner together.
DTSTART;TZID=America/New_York:20181004T150000
DTEND;TZID=America/New_York:20181004T173000
LOCATION:437 Bay St. Taunton\, MA
SUMMARY:Self Advocacy/Dinner
END:VEVENT
END:VCALENDAR
