BEGIN:VCALENDAR
VERSION:2.0
PRODID:-//www.arcnbc.org//NONSGML kigkonsult.se iCalcreator 2.30.10//
CALSCALE:GREGORIAN
METHOD:PUBLISH
UID:36e892e0-9f3f-4b88-b41a-0f6f713c3498
X-WR-CALDESC:Since 1979\, features fun for the entire family\, includes liv
 e continuous entertainment on stage with top name musical acts\, comedians
  and performers\, fireworks\, amusement rides\, food court\, classic and m
 uscle car show\, consumer showcase\, arts and crafts\, Columbus Day Parade
  and much more.\nDescription provided by (https://www.eventcrazy.com/Woons
 ocket-RI/events/details/12847-Woonsocket-Autumnfest)
X-WR-RELCALID:11ff516fd68f1ffac1066b29c16400e7
X-WR-TIMEZONE:America/New_York
BEGIN:VTIMEZONE
TZID:America/New_York
BEGIN:STANDARD
TZNAME:EST
DTSTART:20171105T020000
TZOFFSETFROM:-0400
TZOFFSETTO:-0500
RDATE:20181104T020000
RDATE:20191103T020000
END:STANDARD
BEGIN:DAYLIGHT
TZNAME:EDT
DTSTART:20180311T020000
TZOFFSETFROM:-0500
TZOFFSETTO:-0400
RDATE:20190310T020000
RDATE:20200308T020000
END:DAYLIGHT
END:VTIMEZONE
BEGIN:VEVENT
UID:24ec7e68-887b-40e8-bd5d-72686a53affa
DTSTAMP:20260423T133414Z
DESCRIPTION:Since 1979\, features fun for the entire family\, includes live
  continuous entertainment on stage with top name musical acts\, comedians 
 and performers\, fireworks\, amusement rides\, food court\, classic and mu
 scle car show\, consumer showcase\, arts and crafts\, Columbus Day Parade 
 and much more.\nDescription provided by (https://www.eventcrazy.com/Woonso
 cket-RI/events/details/12847-Woonsocket-Autumnfest)
DTSTART;TZID=America/New_York:20181006T110000
DTEND;TZID=America/New_York:20181006T160000
LOCATION:Woonsocket\, RI
SUMMARY:Woonsocket Autumn Fest
END:VEVENT
END:VCALENDAR
