BEGIN:VCALENDAR
VERSION:2.0
PRODID:-//www.arcnbc.org//NONSGML kigkonsult.se iCalcreator 2.30.10//
CALSCALE:GREGORIAN
METHOD:PUBLISH
UID:a7d0b53e-dd34-4c3d-80fa-e6ce9360f98e
X-WR-CALDESC:Pickup at 141 Park Street\, Attleboro at 4:15pm
X-WR-RELCALID:41b3c332299809ff6ffed4e4b4098a59
X-WR-TIMEZONE:America/New_York
BEGIN:VTIMEZONE
TZID:America/New_York
BEGIN:STANDARD
TZNAME:EST
DTSTART:20171105T020000
TZOFFSETFROM:-0400
TZOFFSETTO:-0500
RDATE:20181104T020000
RDATE:20191103T020000
END:STANDARD
BEGIN:DAYLIGHT
TZNAME:EDT
DTSTART:20180311T020000
TZOFFSETFROM:-0500
TZOFFSETTO:-0400
RDATE:20190310T020000
RDATE:20200308T020000
END:DAYLIGHT
END:VTIMEZONE
BEGIN:VEVENT
UID:56908fc6-54ca-4531-831f-d1feab0b8cd3
DTSTAMP:20260423T133621Z
DESCRIPTION:Pickup at 141 Park Street\, Attleboro at 4:15pm
DTSTART;TZID=America/New_York:20181010T161500
DTEND;TZID=America/New_York:20181010T190000
LOCATION:Kenpo Karate\, E. Taunton
SUMMARY:Karate
END:VEVENT
END:VCALENDAR
