BEGIN:VCALENDAR
VERSION:2.0
PRODID:-//www.arcnbc.org//NONSGML kigkonsult.se iCalcreator 2.30.10//
CALSCALE:GREGORIAN
METHOD:PUBLISH
UID:c392ec8a-a490-441d-9e12-c184b2d19c96
X-WR-CALDESC:Jack-O-Lantern Spectacular\, presented by Citizens Bank\, at R
 oger Williams Park Zoo is celebrating 30 years of Halloween magic October 
 4 – November 4. Called EXTRAORDINARY by both CNN and USA Today\, this year
 ’s show includes more than 5\,000 intricately carved pumpkins featuring sc
 enes of wizards\, fairy tales\, and the luminaries of great myths and lege
 nds\, alongside superheroes\, and historical figures who changed our world
 . Revel in the sights and sounds of the season\, and celebrate this otherw
 orldly experience. \n(Description provided by Roger Williams park website)
X-WR-RELCALID:c4029ab324cd4d40f928899b2421ba9a
X-WR-TIMEZONE:America/New_York
BEGIN:VTIMEZONE
TZID:America/New_York
BEGIN:STANDARD
TZNAME:EST
DTSTART:20171105T020000
TZOFFSETFROM:-0400
TZOFFSETTO:-0500
RDATE:20181104T020000
RDATE:20191103T020000
END:STANDARD
BEGIN:DAYLIGHT
TZNAME:EDT
DTSTART:20180311T020000
TZOFFSETFROM:-0500
TZOFFSETTO:-0400
RDATE:20190310T020000
RDATE:20200308T020000
END:DAYLIGHT
END:VTIMEZONE
BEGIN:VEVENT
UID:c5d6ae0a-42bd-4d58-8bf4-f099da6253b9
DTSTAMP:20260423T133502Z
DESCRIPTION:Jack-O-Lantern Spectacular\, presented by Citizens Bank\, at Ro
 ger Williams Park Zoo is celebrating 30 years of Halloween magic October 4
  – November 4. Called EXTRAORDINARY by both CNN and USA Today\, this year’
 s show includes more than 5\,000 intricately carved pumpkins featuring sce
 nes of wizards\, fairy tales\, and the luminaries of great myths and legen
 ds\, alongside superheroes\, and historical figures who changed our world.
  Revel in the sights and sounds of the season\, and celebrate this otherwo
 rldly experience. \n(Description provided by Roger Williams park website)
DTSTART;TZID=America/New_York:20181011T170000
DTEND;TZID=America/New_York:20181011T210000
LOCATION:Roger Williams Park Cranston\, RI
SUMMARY:Jack O' Lantern Spectacular
END:VEVENT
END:VCALENDAR
