BEGIN:VCALENDAR
VERSION:2.0
PRODID:-//www.arcnbc.org//NONSGML kigkonsult.se iCalcreator 2.30.10//
CALSCALE:GREGORIAN
METHOD:PUBLISH
UID:f6e847fe-b762-4556-94a9-a85e8f84e3a4
X-WR-CALDESC:
X-WR-RELCALID:c078cfc4426d8be85137d9774526041b
X-WR-TIMEZONE:America/New_York
BEGIN:VTIMEZONE
TZID:America/New_York
BEGIN:STANDARD
TZNAME:EST
DTSTART:20171105T020000
TZOFFSETFROM:-0400
TZOFFSETTO:-0500
RDATE:20181104T020000
RDATE:20191103T020000
END:STANDARD
BEGIN:DAYLIGHT
TZNAME:EDT
DTSTART:20180311T020000
TZOFFSETFROM:-0500
TZOFFSETTO:-0400
RDATE:20190310T020000
RDATE:20200308T020000
END:DAYLIGHT
END:VTIMEZONE
BEGIN:VEVENT
UID:e9dd25d3-f70b-44bb-9dcf-8c64441245a6
DTSTAMP:20260423T133348Z
DESCRIPTION:
DTSTART;TZID=America/New_York:20181012T090000
DTEND;TZID=America/New_York:20181012T160000
LOCATION:Attleboro office
SUMMARY:NCI\, Attleboro office
END:VEVENT
END:VCALENDAR
