BEGIN:VCALENDAR
VERSION:2.0
PRODID:-//www.arcnbc.org//NONSGML kigkonsult.se iCalcreator 2.30.10//
CALSCALE:GREGORIAN
METHOD:PUBLISH
UID:20f25df5-5d65-4eb4-a055-f8067df37906
X-WR-CALDESC:Patriot Place movie\, and dinner served in the theater.
X-WR-RELCALID:585652838b8d507603ac7c8bea663556
X-WR-TIMEZONE:America/New_York
BEGIN:VTIMEZONE
TZID:America/New_York
BEGIN:STANDARD
TZNAME:EST
DTSTART:20171105T020000
TZOFFSETFROM:-0400
TZOFFSETTO:-0500
RDATE:20181104T020000
RDATE:20191103T020000
END:STANDARD
BEGIN:DAYLIGHT
TZNAME:EDT
DTSTART:20180311T020000
TZOFFSETFROM:-0500
TZOFFSETTO:-0400
RDATE:20190310T020000
RDATE:20200308T020000
END:DAYLIGHT
END:VTIMEZONE
BEGIN:VEVENT
UID:1b72eef8-b283-4632-9daa-b46f5327fb89
DTSTAMP:20260423T134033Z
DESCRIPTION:Patriot Place movie\, and dinner served in the theater.
DTSTART;TZID=America/New_York:20181013T110000
DTEND;TZID=America/New_York:20181013T170000
LOCATION:Gilette Stadium Foxboro\, MA
SUMMARY:Patriot Place Cinema & dinner
END:VEVENT
END:VCALENDAR
