BEGIN:VCALENDAR
VERSION:2.0
PRODID:-//www.arcnbc.org//NONSGML kigkonsult.se iCalcreator 2.30.10//
CALSCALE:GREGORIAN
METHOD:PUBLISH
UID:9dbc3ce3-096b-4841-bc27-07dce815a2f8
X-WR-CALDESC:We will hop a bus with Bloom Bus that will drive us to New Ham
 pshire.  We then will get on a train that will show us the beautiful color
 s of New England in our upcoming fall season.  We will then enjoy lunch in
  Conway\, NH.  I have added a link below for full description.
X-WR-RELCALID:9e4dd3d94787c4d29b72abfeedccfd24
X-WR-TIMEZONE:America/New_York
BEGIN:VTIMEZONE
TZID:America/New_York
BEGIN:STANDARD
TZNAME:EST
DTSTART:20171105T020000
TZOFFSETFROM:-0400
TZOFFSETTO:-0500
RDATE:20181104T020000
RDATE:20191103T020000
END:STANDARD
BEGIN:DAYLIGHT
TZNAME:EDT
DTSTART:20180311T020000
TZOFFSETFROM:-0500
TZOFFSETTO:-0400
RDATE:20190310T020000
RDATE:20200308T020000
END:DAYLIGHT
END:VTIMEZONE
BEGIN:VEVENT
UID:71704a63-fce6-47b8-b4d6-80543c744e4b
DTSTAMP:20260423T134025Z
DESCRIPTION:We will hop a bus with Bloom Bus that will drive us to New Hamp
 shire.  We then will get on a train that will show us the beautiful colors
  of New England in our upcoming fall season.  We will then enjoy lunch in 
 Conway\, NH.  I have added a link below for full description.
DTSTART;TZID=America/New_York:20181018T060000
DTEND;TZID=America/New_York:20181018T200000
LOCATION:Conway\, New Hampshire
SUMMARY:Scenic Foliage Railway Tour
END:VEVENT
END:VCALENDAR
