BEGIN:VCALENDAR
VERSION:2.0
PRODID:-//www.arcnbc.org//NONSGML kigkonsult.se iCalcreator 2.30.10//
CALSCALE:GREGORIAN
METHOD:PUBLISH
UID:d8c95b2b-22fb-4117-9bbb-7998b87b3bd3
X-WR-CALDESC:Please note that the annual TARC Pancake Breakfast has been po
 stponed until Saturday\, February 9th. Snow date of February 16th.
X-WR-RELCALID:26f9b2b3b0ee01cb509bba78ca6182e6
X-WR-TIMEZONE:America/New_York
BEGIN:VTIMEZONE
TZID:America/New_York
BEGIN:STANDARD
TZNAME:EST
DTSTART:20171105T020000
TZOFFSETFROM:-0400
TZOFFSETTO:-0500
RDATE:20181104T020000
RDATE:20191103T020000
END:STANDARD
BEGIN:DAYLIGHT
TZNAME:EDT
DTSTART:20180311T020000
TZOFFSETFROM:-0500
TZOFFSETTO:-0400
RDATE:20190310T020000
RDATE:20200308T020000
END:DAYLIGHT
END:VTIMEZONE
BEGIN:VEVENT
UID:6aac8a10-23c6-4ac2-9316-393742f3c938
DTSTAMP:20260423T133323Z
DESCRIPTION:Please note that the annual TARC Pancake Breakfast has been pos
 tponed until Saturday\, February 9th. Snow date of February 16th.
DTSTART;TZID=America/New_York:20181020T080000
DTEND;TZID=America/New_York:20181020T110000
LOCATION:
SUMMARY:Pancake Breakfast-POSTPONED
END:VEVENT
END:VCALENDAR
