BEGIN:VCALENDAR
VERSION:2.0
PRODID:-//www.arcnbc.org//NONSGML kigkonsult.se iCalcreator 2.30.10//
CALSCALE:GREGORIAN
METHOD:PUBLISH
UID:a4e65c92-9cab-4426-ae42-15173cf85875
X-WR-CALDESC:
X-WR-RELCALID:e07a617cccc1f19cb762e620d21373a8
X-WR-TIMEZONE:America/New_York
BEGIN:VTIMEZONE
TZID:America/New_York
BEGIN:STANDARD
TZNAME:EST
DTSTART:20171105T020000
TZOFFSETFROM:-0400
TZOFFSETTO:-0500
RDATE:20181104T020000
RDATE:20191103T020000
END:STANDARD
BEGIN:DAYLIGHT
TZNAME:EDT
DTSTART:20180311T020000
TZOFFSETFROM:-0500
TZOFFSETTO:-0400
RDATE:20190310T020000
RDATE:20200308T020000
END:DAYLIGHT
END:VTIMEZONE
BEGIN:VEVENT
UID:e44a6f1c-e386-4e24-9720-09ecc337f838
DTSTAMP:20260423T133322Z
DESCRIPTION:
DTSTART;TZID=America/New_York:20181024T090000
DTEND;TZID=America/New_York:20181024T160000
LOCATION:Smithfield office
SUMMARY:NCI\, Smithfield office
END:VEVENT
END:VCALENDAR
