BEGIN:VCALENDAR
VERSION:2.0
PRODID:-//www.arcnbc.org//NONSGML kigkonsult.se iCalcreator 2.30.10//
CALSCALE:GREGORIAN
METHOD:PUBLISH
UID:7135b325-8b84-4bee-a786-3f079713486f
X-WR-CALDESC:Once monthly Ted and Fran host a dance.  This dance is for the
  people we support as well as people form other agencies providing support
 s for a night of fun.  They usually provide a light snack\,  and there is 
 always a DJ for dancing.  $3.00 at the door.
X-WR-RELCALID:dbf326fcb3d6ca14d7ee875f2f937966
X-WR-TIMEZONE:America/New_York
BEGIN:VTIMEZONE
TZID:America/New_York
BEGIN:STANDARD
TZNAME:EST
DTSTART:20171105T020000
TZOFFSETFROM:-0400
TZOFFSETTO:-0500
RDATE:20181104T020000
RDATE:20191103T020000
END:STANDARD
BEGIN:DAYLIGHT
TZNAME:EDT
DTSTART:20180311T020000
TZOFFSETFROM:-0500
TZOFFSETTO:-0400
RDATE:20190310T020000
RDATE:20200308T020000
END:DAYLIGHT
END:VTIMEZONE
BEGIN:VEVENT
UID:c11e1f4a-a1bc-40d0-a6a6-3a45fa237ef2
DTSTAMP:20260423T133811Z
DESCRIPTION:Once monthly Ted and Fran host a dance.  This dance is for the 
 people we support as well as people form other agencies providing supports
  for a night of fun.  They usually provide a light snack\,  and there is a
 lways a DJ for dancing.  $3.00 at the door.
DTSTART;TZID=America/New_York:20181025T193000
DTEND;TZID=America/New_York:20181025T203000
LOCATION:PPAC175 School St\, Taunton\, MA 02780
SUMMARY:Fran's Dance
END:VEVENT
END:VCALENDAR
